BEGIN:VCALENDAR
VERSION:2.0
PRODID:-//wp-events-plugin.com//7.2.3.1//EN
TZID:Asia/Kuala_Lumpur
X-WR-TIMEZONE:Asia/Kuala_Lumpur
BEGIN:VEVENT
UID:164@aoemm.org.my
DTSTART;TZID=Asia/Kuala_Lumpur:20210612T080000
DTEND;TZID=Asia/Kuala_Lumpur:20210612T170000
DTSTAMP:20210604T045554Z
URL:https://aoemm.org.my/services/training/events/tu43-protecting-the-busi
 ness-travelers-during-the-covid-19-pandemic-on-5-june-2021-webinar/
SUMMARY:TU43 : “COVID-19 Pandemic – A Paradigm Shift for Business Trave
 lers” on 12th June 2021 @ Webinar
DESCRIPTION:
ATTACH;FMTTYPE=image/jpeg:https://aoemm.org.my/wp-content/uploads/2017/06/
 aoemm-logo-clear.png
CATEGORIES:Technical Updates
LOCATION:Webinar\, Room 11\, Level 5\, MMA House\, Kuala Lumpur\, 53000\, M
 alaysia
X-APPLE-STRUCTURED-LOCATION;VALUE=URI;X-ADDRESS=Room 11\, Level 5\, MMA Hou
 se\, Kuala Lumpur\, 53000\, Malaysia;X-APPLE-RADIUS=100;X-TITLE=Webinar:ge
 o:0,0
END:VEVENT
BEGIN:VTIMEZONE
TZID:Asia/Kuala_Lumpur
X-LIC-LOCATION:Asia/Kuala_Lumpur
BEGIN:STANDARD
DTSTART:20200612T080000
TZOFFSETFROM:+0800
TZOFFSETTO:+0800
TZNAME:+08
END:STANDARD
END:VTIMEZONE
END:VCALENDAR