BEGIN:VCALENDAR
VERSION:2.0
PRODID:-//wp-events-plugin.com//7.2.3.1//EN
TZID:Asia/Kuala_Lumpur
X-WR-TIMEZONE:Asia/Kuala_Lumpur
BEGIN:VEVENT
UID:120@aoemm.org.my
DTSTART;TZID=Asia/Kuala_Lumpur:20200912T080000
DTEND;TZID=Asia/Kuala_Lumpur:20200912T171500
DTSTAMP:20200828T013910Z
URL:https://aoemm.org.my/services/training/events/tu38-occupational-noise-
 related-hearing-disorders-and-audiometry-workshop-26-september-2020-kota-k
 inabalu/
SUMMARY:TU38: Occupational Noise-Related Hearing Disorders and Audiometry W
 orkshop\, 12 September 2020 @ Kota Kinabalu
DESCRIPTION:
ATTACH;FMTTYPE=image/jpeg:https://aoemm.org.my/wp-content/uploads/2017/06/
 aoemm-logo-clear.png
CATEGORIES:Technical Updates
LOCATION:Marriott Hotel Kota Kinabalu\, Lot G\, 23A\, Jalan Tun Fuad Stephe
 ns\, Kota Kinabalu\, Sabah\, 88000\, Malaysia
X-APPLE-STRUCTURED-LOCATION;VALUE=URI;X-ADDRESS=Lot G\, 23A\, Jalan Tun Fua
 d Stephens\, Kota Kinabalu\, Sabah\, 88000\, Malaysia;X-APPLE-RADIUS=100;X
 -TITLE=Marriott Hotel Kota Kinabalu:geo:0,0
END:VEVENT
BEGIN:VTIMEZONE
TZID:Asia/Kuala_Lumpur
X-LIC-LOCATION:Asia/Kuala_Lumpur
BEGIN:STANDARD
DTSTART:20190913T080000
TZOFFSETFROM:+0800
TZOFFSETTO:+0800
TZNAME:+08
END:STANDARD
END:VTIMEZONE
END:VCALENDAR