BEGIN:VCALENDAR
VERSION:2.0
PRODID:-//wp-events-plugin.com//7.2.3.1//EN
TZID:Asia/Kuala_Lumpur
X-WR-TIMEZONE:Asia/Kuala_Lumpur
BEGIN:VEVENT
UID:209@aoemm.org.my
DTSTART;TZID=Asia/Kuala_Lumpur:20220514T123000
DTEND;TZID=Asia/Kuala_Lumpur:20220514T153000
DTSTAMP:20220429T011437Z
URL:https://aoemm.org.my/services/training/events/rsvp-aoemm-hari-raya-ope
 n-house-14-may-2022/
SUMMARY:RSVP AOEMM Hari Raya Open House : 14 May 2022
DESCRIPTION:
CATEGORIES:Social Event
LOCATION:Royale Chulan Damansara\, 2 Jalan PJU 7/3\, Mutiara Damansara\,\, 
 Petaling Jaya\, Selangor\, 47810\, Malaysia
X-APPLE-STRUCTURED-LOCATION;VALUE=URI;X-ADDRESS=2 Jalan PJU 7/3\, Mutiara D
 amansara\,\, Petaling Jaya\, Selangor\, 47810\, Malaysia;X-APPLE-RADIUS=10
 0;X-TITLE=Royale Chulan Damansara:geo:0,0
END:VEVENT
BEGIN:VTIMEZONE
TZID:Asia/Kuala_Lumpur
X-LIC-LOCATION:Asia/Kuala_Lumpur
BEGIN:STANDARD
DTSTART:20210514T123000
TZOFFSETFROM:+0800
TZOFFSETTO:+0800
TZNAME:+08
END:STANDARD
END:VTIMEZONE
END:VCALENDAR