BEGIN:VCALENDAR
VERSION:2.0
PRODID:-//wp-events-plugin.com//7.2.3.1//EN
TZID:Asia/Kuala_Lumpur
X-WR-TIMEZONE:Asia/Kuala_Lumpur
BEGIN:VEVENT
UID:303@aoemm.org.my
DTSTART;TZID=Asia/Kuala_Lumpur:20250705T080000
DTEND;TZID=Asia/Kuala_Lumpur:20250706T170000
DTSTAMP:20250303T042136Z
URL:https://aoemm.org.my/services/training/events/ohs-southern-2025-johor/
SUMMARY:OHS: 2nd Southern Region Occupational Health Seminar (SROHS)
DESCRIPTION:
END:VEVENT
BEGIN:VTIMEZONE
TZID:Asia/Kuala_Lumpur
X-LIC-LOCATION:Asia/Kuala_Lumpur
BEGIN:STANDARD
DTSTART:20240705T080000
TZOFFSETFROM:+0800
TZOFFSETTO:+0800
TZNAME:+08
END:STANDARD
END:VTIMEZONE
END:VCALENDAR