BEGIN:VCALENDAR
VERSION:2.0
PRODID:-//wp-events-plugin.com//7.2.3.1//EN
TZID:Asia/Kuala_Lumpur
X-WR-TIMEZONE:Asia/Kuala_Lumpur
BEGIN:VEVENT
UID:101@aoemm.org.my
DTSTART;TZID=Asia/Kuala_Lumpur:20200411T080000
DTEND;TZID=Asia/Kuala_Lumpur:20200412T173000
DTSTAMP:20200327T082435Z
URL:https://aoemm.org.my/services/training/events/fitness-for-work-ffw-wor
 kshop-11-12-april-2020-in-kuala-lumpur/
SUMMARY:Fitness for Work (FFW) Workshop - 11-12 April 2020 in Kuala Lumpur 
 (Defer to 11-12 July 20)
DESCRIPTION:
ATTACH;FMTTYPE=image/jpeg:https://aoemm.org.my/wp-content/uploads/2016/05/
 cropped-cropped-cropped-cropped-aoemm-logo1.png
CATEGORIES:Seminar
LOCATION:Sunway Putra Hotel\, 100\, Jalan Putra\, Chow Kit\, Kuala Lumpur\,
  50350\, Malaysia
X-APPLE-STRUCTURED-LOCATION;VALUE=URI;X-ADDRESS=100\, Jalan Putra\, Chow Ki
 t\, Kuala Lumpur\, 50350\, Malaysia;X-APPLE-RADIUS=100;X-TITLE=Sunway Putr
 a Hotel:geo:0,0
END:VEVENT
BEGIN:VTIMEZONE
TZID:Asia/Kuala_Lumpur
X-LIC-LOCATION:Asia/Kuala_Lumpur
BEGIN:STANDARD
DTSTART:20190412T080000
TZOFFSETFROM:+0800
TZOFFSETTO:+0800
TZNAME:+08
END:STANDARD
END:VTIMEZONE
END:VCALENDAR