BEGIN:VCALENDAR
VERSION:2.0
PRODID:-//wp-events-plugin.com//7.2.3.1//EN
TZID:Asia/Kuala_Lumpur
X-WR-TIMEZONE:Asia/Kuala_Lumpur
BEGIN:VEVENT
UID:185@aoemm.org.my
DTSTART;TZID=Asia/Kuala_Lumpur:20211204T080000
DTEND;TZID=Asia/Kuala_Lumpur:20211204T170000
DTSTAMP:20211120T144601Z
URL:https://aoemm.org.my/services/training/events/aoemm-seminar-hybrid-lea
 rning-from-covid-19-4dec2021/
SUMMARY:AOEMM Seminar (Hybrid)  “Learning from COVID-19 - Improving Indoo
 r Environment” 4 Dec 2021
DESCRIPTION:
ATTACH;FMTTYPE=image/jpeg:https://aoemm.org.my/wp-content/uploads/2017/06/
 aoemm-logo-clear.png
CATEGORIES:Technical Updates
LOCATION:Hybrid Session (Venue + Online)\, Room 11\, Level 5\, MMA House\, 
 Kuala Lumpur\, 53000\, Malaysia
X-APPLE-STRUCTURED-LOCATION;VALUE=URI;X-ADDRESS=Room 11\, Level 5\, MMA Hou
 se\, Kuala Lumpur\, 53000\, Malaysia;X-APPLE-RADIUS=100;X-TITLE=Hybrid Ses
 sion (Venue + Online):geo:0,0
END:VEVENT
BEGIN:VTIMEZONE
TZID:Asia/Kuala_Lumpur
X-LIC-LOCATION:Asia/Kuala_Lumpur
BEGIN:STANDARD
DTSTART:20201204T080000
TZOFFSETFROM:+0800
TZOFFSETTO:+0800
TZNAME:+08
END:STANDARD
END:VTIMEZONE
END:VCALENDAR