BEGIN:VCALENDAR
VERSION:2.0
PRODID:-//wp-events-plugin.com//7.2.3.1//EN
TZID:Asia/Kuala_Lumpur
X-WR-TIMEZONE:Asia/Kuala_Lumpur
BEGIN:VEVENT
UID:176@aoemm.org.my
DTSTART;TZID=Asia/Kuala_Lumpur:20210911T080000
DTEND;TZID=Asia/Kuala_Lumpur:20210911T110000
DTSTAMP:20210902T082749Z
URL:https://aoemm.org.my/services/training/events/aoemm-annual-seminar-202
 1-in-conjunction-with-the-15th-aoemm-agm-on-11-september-2021/
SUMMARY:AOEMM Annual Seminar 2021 in conjunction with the 15th AOEMM AGM on
  11 September 2021
DESCRIPTION:
ATTACH;FMTTYPE=image/jpeg:https://aoemm.org.my/wp-content/uploads/2017/06/
 aoemm-logo-clear.png
CATEGORIES:AGM/EGM,Seminar
LOCATION:Webinar\, Room 11\, Level 5\, MMA House\, Kuala Lumpur\, 53000\, M
 alaysia
X-APPLE-STRUCTURED-LOCATION;VALUE=URI;X-ADDRESS=Room 11\, Level 5\, MMA Hou
 se\, Kuala Lumpur\, 53000\, Malaysia;X-APPLE-RADIUS=100;X-TITLE=Webinar:ge
 o:0,0
END:VEVENT
BEGIN:VTIMEZONE
TZID:Asia/Kuala_Lumpur
X-LIC-LOCATION:Asia/Kuala_Lumpur
BEGIN:STANDARD
DTSTART:20200911T080000
TZOFFSETFROM:+0800
TZOFFSETTO:+0800
TZNAME:+08
END:STANDARD
END:VTIMEZONE
END:VCALENDAR