BEGIN:VCALENDAR
VERSION:2.0
PRODID:-//wp-events-plugin.com//7.2.3.1//EN
TZID:Asia/Kuala_Lumpur
X-WR-TIMEZONE:Asia/Kuala_Lumpur
BEGIN:VEVENT
UID:152@aoemm.org.my
DTSTART;TZID=Asia/Kuala_Lumpur:20210411T140000
DTEND;TZID=Asia/Kuala_Lumpur:20210411T160000
DTSTAMP:20210402T024856Z
URL:https://aoemm.org.my/services/training/events/amro-repeat-examination-
 11-april-2021-kuala-lumpur/
SUMMARY:AMRO Repeat Examination : 11 April 2021 @ Kuala Lumpur
DESCRIPTION:
ATTACH;FMTTYPE=image/jpeg:https://aoemm.org.my/wp-content/uploads/2016/05/
 cropped-cropped-cropped-cropped-aoemm-logo1.png
CATEGORIES:AMRO
LOCATION:The Majestic Hotel Kuala Lumpur\, 5\, Jalan Sultan Hishamuddin\, T
 asik Perdana\, Kuala Lumpur\, 50000\, Malaysia
X-APPLE-STRUCTURED-LOCATION;VALUE=URI;X-ADDRESS=5\, Jalan Sultan Hishamuddi
 n\, Tasik Perdana\, Kuala Lumpur\, 50000\, Malaysia;X-APPLE-RADIUS=100;X-T
 ITLE=The Majestic Hotel Kuala Lumpur:geo:0,0
END:VEVENT
BEGIN:VTIMEZONE
TZID:Asia/Kuala_Lumpur
X-LIC-LOCATION:Asia/Kuala_Lumpur
BEGIN:STANDARD
DTSTART:20200411T140000
TZOFFSETFROM:+0800
TZOFFSETTO:+0800
TZNAME:+08
END:STANDARD
END:VTIMEZONE
END:VCALENDAR