BEGIN:VCALENDAR
VERSION:2.0
PRODID:-//wp-events-plugin.com//7.2.3.1//EN
TZID:Asia/Kuala_Lumpur
X-WR-TIMEZONE:Asia/Kuala_Lumpur
BEGIN:VEVENT
UID:192@aoemm.org.my
DTSTART;TZID=Asia/Kuala_Lumpur:20240101T080000
DTEND;TZID=Asia/Kuala_Lumpur:20241231T170000
DTSTAMP:20241224T065054Z
URL:https://aoemm.org.my/services/training/events/amro-mro-2025/
SUMMARY:2025 MRO & AMRO Course and Certification
DESCRIPTION:
CATEGORIES:AMRO,MRO
END:VEVENT
BEGIN:VTIMEZONE
TZID:Asia/Kuala_Lumpur
X-LIC-LOCATION:Asia/Kuala_Lumpur
BEGIN:STANDARD
DTSTART:20230101T080000
TZOFFSETFROM:+0800
TZOFFSETTO:+0800
TZNAME:+08
END:STANDARD
END:VTIMEZONE
END:VCALENDAR