BEGIN:VCALENDAR
VERSION:2.0
PRODID:-//wp-events-plugin.com//7.2.3.1//EN
TZID:Asia/Kuala_Lumpur
X-WR-TIMEZONE:Asia/Kuala_Lumpur
BEGIN:VEVENT
UID:99@aoemm.org.my
DTSTART;TZID=Asia/Kuala_Lumpur:20201121T083000
DTEND;TZID=Asia/Kuala_Lumpur:20201122T170000
DTSTAMP:20201109T073332Z
URL:https://aoemm.org.my/services/training/events/amro-course-and-certific
 ation-21-22-november-2020-in-kuala-lumpur/
SUMMARY:AMRO Course and Certification - 21-22 November 2020 @ Kuala Lumpur 
 (Online)
DESCRIPTION:
ATTACH;FMTTYPE=image/jpeg:https://aoemm.org.my/wp-content/uploads/2016/05/
 cropped-cropped-cropped-cropped-aoemm-logo1.png
CATEGORIES:AMRO
LOCATION:Online Course\, Room 11\, Level 5\, MMA House\, Kuala Lumpur\, 530
 00\, Malaysia
X-APPLE-STRUCTURED-LOCATION;VALUE=URI;X-ADDRESS=Room 11\, Level 5\, MMA Hou
 se\, Kuala Lumpur\, 53000\, Malaysia;X-APPLE-RADIUS=100;X-TITLE=Online Cou
 rse:geo:0,0
END:VEVENT
BEGIN:VTIMEZONE
TZID:Asia/Kuala_Lumpur
X-LIC-LOCATION:Asia/Kuala_Lumpur
BEGIN:STANDARD
DTSTART:20191122T083000
TZOFFSETFROM:+0800
TZOFFSETTO:+0800
TZNAME:+08
END:STANDARD
END:VTIMEZONE
END:VCALENDAR