BEGIN:VCALENDAR
VERSION:2.0
PRODID:-//wp-events-plugin.com//7.2.3.1//EN
TZID:Asia/Kuala_Lumpur
X-WR-TIMEZONE:Asia/Kuala_Lumpur
BEGIN:VEVENT
UID:214@aoemm.org.my
DTSTART;TZID=Asia/Kuala_Lumpur:20220820T080000
DTEND;TZID=Asia/Kuala_Lumpur:20220821T170000
DTSTAMP:20220810T073550Z
URL:https://aoemm.org.my/services/training/events/amro-course-and-certific
 ation-20-21-august-2022-physical/
SUMMARY:AMRO Course and Certification: 20-21 August 2022 [Physical] - FULL 
 & CLOSE
DESCRIPTION:
ATTACH;FMTTYPE=image/jpeg:https://aoemm.org.my/wp-content/uploads/2016/05/
 cropped-cropped-cropped-cropped-aoemm-logo1.png
CATEGORIES:AMRO
LOCATION:Pullman KLCC Hotel\, 4\, Jalan Conlay\, Kuala Lumpur\, Kuala Lumpu
 r\, Wilayah Persekutuan Kuala Lumpur\, 50450\, Malaysia
X-APPLE-STRUCTURED-LOCATION;VALUE=URI;X-ADDRESS=4\, Jalan Conlay\, Kuala Lu
 mpur\, Kuala Lumpur\, Wilayah Persekutuan Kuala Lumpur\, 50450\, Malaysia;
 X-APPLE-RADIUS=100;X-TITLE=Pullman KLCC Hotel:geo:0,0
END:VEVENT
BEGIN:VTIMEZONE
TZID:Asia/Kuala_Lumpur
X-LIC-LOCATION:Asia/Kuala_Lumpur
BEGIN:STANDARD
DTSTART:20210820T080000
TZOFFSETFROM:+0800
TZOFFSETTO:+0800
TZNAME:+08
END:STANDARD
END:VTIMEZONE
END:VCALENDAR