BEGIN:VCALENDAR
VERSION:2.0
PRODID:-//wp-events-plugin.com//7.2.3.1//EN
TZID:Asia/Kuala_Lumpur
X-WR-TIMEZONE:Asia/Kuala_Lumpur
BEGIN:VEVENT
UID:195@aoemm.org.my
DTSTART;TZID=Asia/Kuala_Lumpur:20220319T080000
DTEND;TZID=Asia/Kuala_Lumpur:20220320T170000
DTSTAMP:20220307T041019Z
URL:https://aoemm.org.my/services/training/events/amro-course-and-certific
 ation-12-13-march-2022-physical/
SUMMARY:AMRO Course and Certification: 19-20 March 2022 [Physical]-FULL & C
 LOSE-
DESCRIPTION:
ATTACH;FMTTYPE=image/jpeg:https://aoemm.org.my/wp-content/uploads/2016/05/
 cropped-cropped-cropped-cropped-aoemm-logo1.png
CATEGORIES:AMRO
LOCATION:Sutera Harbour Marina Golf & Country Club\, Jalan Utama Sutera Har
 bour\,  Sutera Harbour Boulevard\, Sabah\, 88100\, Malaysia
X-APPLE-STRUCTURED-LOCATION;VALUE=URI;X-ADDRESS=Jalan Utama Sutera Harbour\
 ,  Sutera Harbour Boulevard\, Sabah\, 88100\, Malaysia;X-APPLE-RADIUS=100;
 X-TITLE=Sutera Harbour Marina Golf & Country Club:geo:0,0
END:VEVENT
BEGIN:VTIMEZONE
TZID:Asia/Kuala_Lumpur
X-LIC-LOCATION:Asia/Kuala_Lumpur
BEGIN:STANDARD
DTSTART:20210319T080000
TZOFFSETFROM:+0800
TZOFFSETTO:+0800
TZNAME:+08
END:STANDARD
END:VTIMEZONE
END:VCALENDAR