BEGIN:VCALENDAR
VERSION:2.0
PRODID:-//wp-events-plugin.com//7.2.3.1//EN
TZID:Asia/Kuala_Lumpur
X-WR-TIMEZONE:Asia/Kuala_Lumpur
BEGIN:VEVENT
UID:246@aoemm.org.my
DTSTART;TZID=Asia/Kuala_Lumpur:20230805T080000
DTEND;TZID=Asia/Kuala_Lumpur:20230806T170000
DTSTAMP:20230727T021642Z
URL:https://aoemm.org.my/services/training/events/amro-5-6-august-2023-kk/
SUMMARY:AMRO Course and Certification: 5-6 August 2023 @ KK
DESCRIPTION:
CATEGORIES:AMRO
LOCATION:Grandis Hotels and Resorts\, Kota Kinabalu\, Suria Sabah Shopping 
 Mall\, 1A\,  Jln Tun Fuad Stephens\, Kota Kinabalu\, Sabah\, 88000\, Malay
 sia
X-APPLE-STRUCTURED-LOCATION;VALUE=URI;X-ADDRESS=Suria Sabah Shopping Mall\,
  1A\,  Jln Tun Fuad Stephens\, Kota Kinabalu\, Sabah\, 88000\, Malaysia;X-
 APPLE-RADIUS=100;X-TITLE=Grandis Hotels and Resorts\, Kota Kinabalu:geo:0,
 0
END:VEVENT
BEGIN:VTIMEZONE
TZID:Asia/Kuala_Lumpur
X-LIC-LOCATION:Asia/Kuala_Lumpur
BEGIN:STANDARD
DTSTART:20220805T080000
TZOFFSETFROM:+0800
TZOFFSETTO:+0800
TZNAME:+08
END:STANDARD
END:VTIMEZONE
END:VCALENDAR